BEGIN:VCALENDAR
VERSION:2.0
PRODID:-//Fernie Pride Society - ECPv6.15.20//NONSGML v1.0//EN
CALSCALE:GREGORIAN
METHOD:PUBLISH
X-WR-CALNAME:Fernie Pride Society
X-ORIGINAL-URL:https://ferniepride.ca
X-WR-CALDESC:Events for Fernie Pride Society
REFRESH-INTERVAL;VALUE=DURATION:PT1H
X-Robots-Tag:noindex
X-PUBLISHED-TTL:PT1H
BEGIN:VTIMEZONE
TZID:America/Edmonton
BEGIN:DAYLIGHT
TZOFFSETFROM:-0700
TZOFFSETTO:-0600
TZNAME:MDT
DTSTART:20250309T090000
END:DAYLIGHT
BEGIN:STANDARD
TZOFFSETFROM:-0600
TZOFFSETTO:-0700
TZNAME:MST
DTSTART:20251102T080000
END:STANDARD
BEGIN:DAYLIGHT
TZOFFSETFROM:-0700
TZOFFSETTO:-0600
TZNAME:MDT
DTSTART:20260308T090000
END:DAYLIGHT
BEGIN:STANDARD
TZOFFSETFROM:-0600
TZOFFSETTO:-0700
TZNAME:MST
DTSTART:20261101T080000
END:STANDARD
BEGIN:DAYLIGHT
TZOFFSETFROM:-0700
TZOFFSETTO:-0600
TZNAME:MDT
DTSTART:20270314T090000
END:DAYLIGHT
BEGIN:STANDARD
TZOFFSETFROM:-0600
TZOFFSETTO:-0700
TZNAME:MST
DTSTART:20271107T080000
END:STANDARD
END:VTIMEZONE
BEGIN:VEVENT
DTSTART;TZID=America/Edmonton:20260909T180000
DTEND;TZID=America/Edmonton:20260909T183000
DTSTAMP:20260420T161637
CREATED:20260126T154048Z
LAST-MODIFIED:20260126T154050Z
UID:10000141-1788976800-1788978600@ferniepride.ca
SUMMARY:Queers on Gears Bike Ride
DESCRIPTION:Details TBD – Join us for a mountain  bike ride\, followed by socialization at a local establishment.
URL:https://ferniepride.ca/program/queers-on-gears-bike-ride/
LOCATION:BC
ATTACH;FMTTYPE=image/png:https://ferniepride.ca/wp-content/uploads/2026/01/Copy-of-rainow-connections_20260115_080522_0000.png
END:VEVENT
BEGIN:VEVENT
DTSTART;TZID=America/Edmonton:20260916T080000
DTEND;TZID=America/Edmonton:20260920T170000
DTSTAMP:20260420T161637
CREATED:20251026T210341Z
LAST-MODIFIED:20251026T210344Z
UID:10000120-1789545600-1789923600@ferniepride.ca
SUMMARY:Elk Valley Pride Festival
DESCRIPTION:Mark your calendars for the Elk Valley Pride Festival 2026 Edition
URL:https://ferniepride.ca/program/elk-valley-pride-festival/
LOCATION:BC
ATTACH;FMTTYPE=image/jpeg:https://ferniepride.ca/wp-content/uploads/2025/07/Pride-2019-Image1.jpg
END:VEVENT
END:VCALENDAR