BEGIN:VCALENDAR
VERSION:2.0
PRODID:-//Fernie Pride Society - ECPv6.15.20//NONSGML v1.0//EN
CALSCALE:GREGORIAN
METHOD:PUBLISH
X-WR-CALNAME:Fernie Pride Society
X-ORIGINAL-URL:https://ferniepride.ca
X-WR-CALDESC:Events for Fernie Pride Society
REFRESH-INTERVAL;VALUE=DURATION:PT1H
X-Robots-Tag:noindex
X-PUBLISHED-TTL:PT1H
BEGIN:VTIMEZONE
TZID:America/Edmonton
BEGIN:DAYLIGHT
TZOFFSETFROM:-0700
TZOFFSETTO:-0600
TZNAME:MDT
DTSTART:20220313T090000
END:DAYLIGHT
BEGIN:STANDARD
TZOFFSETFROM:-0600
TZOFFSETTO:-0700
TZNAME:MST
DTSTART:20221106T080000
END:STANDARD
BEGIN:DAYLIGHT
TZOFFSETFROM:-0700
TZOFFSETTO:-0600
TZNAME:MDT
DTSTART:20230312T090000
END:DAYLIGHT
BEGIN:STANDARD
TZOFFSETFROM:-0600
TZOFFSETTO:-0700
TZNAME:MST
DTSTART:20231105T080000
END:STANDARD
BEGIN:DAYLIGHT
TZOFFSETFROM:-0700
TZOFFSETTO:-0600
TZNAME:MDT
DTSTART:20240310T090000
END:DAYLIGHT
BEGIN:STANDARD
TZOFFSETFROM:-0600
TZOFFSETTO:-0700
TZNAME:MST
DTSTART:20241103T080000
END:STANDARD
END:VTIMEZONE
BEGIN:VEVENT
DTSTART;TZID=America/Edmonton:20230912T120000
DTEND;TZID=America/Edmonton:20230912T140000
DTSTAMP:20260420T164954
CREATED:20230913T043525Z
LAST-MODIFIED:20230913T043525Z
UID:10000027-1694520000-1694527200@ferniepride.ca
SUMMARY:Rainbow Connections Pride Putt
DESCRIPTION:Join Fernie Pride Society for an evening of casual disc golf and a walk in the park! All-ages welcome.\nRegistration in advance for this FREE event is appreciated as it allows us to best-guess the amount of refreshments to purchase.\nIf you have your own disc golf frisbees please do bring them! Or if you have extra that you can share\, bring those too please!\nWant to just come and socialize and go for a walk in the park with us? That is totally okay too!\nLink to Facebook Event
URL:https://ferniepride.ca/program/rainbow-connections-pride-putt/
LOCATION:James White Park\, Mt. Minton Street\, Fernie\, BC\, V0B 1M0\, Canada
CATEGORIES:Rainbow Connections
END:VEVENT
END:VCALENDAR