BEGIN:VCALENDAR
VERSION:2.0
PRODID:-//Fernie Pride Society - ECPv6.15.20//NONSGML v1.0//EN
CALSCALE:GREGORIAN
METHOD:PUBLISH
X-WR-CALNAME:Fernie Pride Society
X-ORIGINAL-URL:https://ferniepride.ca
X-WR-CALDESC:Events for Fernie Pride Society
REFRESH-INTERVAL;VALUE=DURATION:PT1H
X-Robots-Tag:noindex
X-PUBLISHED-TTL:PT1H
BEGIN:VTIMEZONE
TZID:America/Edmonton
BEGIN:DAYLIGHT
TZOFFSETFROM:-0700
TZOFFSETTO:-0600
TZNAME:MDT
DTSTART:20250309T090000
END:DAYLIGHT
BEGIN:STANDARD
TZOFFSETFROM:-0600
TZOFFSETTO:-0700
TZNAME:MST
DTSTART:20251102T080000
END:STANDARD
BEGIN:DAYLIGHT
TZOFFSETFROM:-0700
TZOFFSETTO:-0600
TZNAME:MDT
DTSTART:20260308T090000
END:DAYLIGHT
BEGIN:STANDARD
TZOFFSETFROM:-0600
TZOFFSETTO:-0700
TZNAME:MST
DTSTART:20261101T080000
END:STANDARD
BEGIN:DAYLIGHT
TZOFFSETFROM:-0700
TZOFFSETTO:-0600
TZNAME:MDT
DTSTART:20270314T090000
END:DAYLIGHT
BEGIN:STANDARD
TZOFFSETFROM:-0600
TZOFFSETTO:-0700
TZNAME:MST
DTSTART:20271107T080000
END:STANDARD
END:VTIMEZONE
BEGIN:VEVENT
DTSTART;TZID=America/Edmonton:20260820T170000
DTEND;TZID=America/Edmonton:20260820T170000
DTSTAMP:20260420T043413
CREATED:20260126T152838Z
LAST-MODIFIED:20260126T152840Z
UID:10000140-1787245200-1787245200@ferniepride.ca
SUMMARY:Yard Games and BBQ
DESCRIPTION:Details TBD. Join us for games like cornhole\, and a BBQ.
URL:https://ferniepride.ca/program/yard-games-and-bbq/
ATTACH;FMTTYPE=image/png:https://ferniepride.ca/wp-content/uploads/2026/01/Copy-of-rainow-connections_20260115_080522_0000.png
END:VEVENT
END:VCALENDAR